BEGIN:VCALENDAR
VERSION:2.0
PRODID:-//Anno - ECPv6.15.13.1//NONSGML v1.0//EN
CALSCALE:GREGORIAN
METHOD:PUBLISH
X-WR-CALNAME:Anno
X-ORIGINAL-URL:https://ostfriesland-anno.de
X-WR-CALDESC:Veranstaltungen für Anno
REFRESH-INTERVAL;VALUE=DURATION:PT1H
X-Robots-Tag:noindex
X-PUBLISHED-TTL:PT1H
BEGIN:VTIMEZONE
TZID:Europe/Berlin
BEGIN:DAYLIGHT
TZOFFSETFROM:+0100
TZOFFSETTO:+0200
TZNAME:CEST
DTSTART:20240331T010000
END:DAYLIGHT
BEGIN:STANDARD
TZOFFSETFROM:+0200
TZOFFSETTO:+0100
TZNAME:CET
DTSTART:20241027T010000
END:STANDARD
BEGIN:DAYLIGHT
TZOFFSETFROM:+0100
TZOFFSETTO:+0200
TZNAME:CEST
DTSTART:20250330T010000
END:DAYLIGHT
BEGIN:STANDARD
TZOFFSETFROM:+0200
TZOFFSETTO:+0100
TZNAME:CET
DTSTART:20251026T010000
END:STANDARD
BEGIN:DAYLIGHT
TZOFFSETFROM:+0100
TZOFFSETTO:+0200
TZNAME:CEST
DTSTART:20260329T010000
END:DAYLIGHT
BEGIN:STANDARD
TZOFFSETFROM:+0200
TZOFFSETTO:+0100
TZNAME:CET
DTSTART:20261025T010000
END:STANDARD
END:VTIMEZONE
BEGIN:VEVENT
DTSTART;TZID=Europe/Berlin:20250408T190000
DTEND;TZID=Europe/Berlin:20250408T220000
DTSTAMP:20260420T122250
CREATED:20250302T082423Z
LAST-MODIFIED:20250310T122706Z
UID:4032-1744138800-1744149600@ostfriesland-anno.de
SUMMARY:Anno-Jahreshauptversammlung
DESCRIPTION:[vc_row][vc_column][vc_acf field_group=”1228″ field_from_1228=”field_615eb7b4b9d92″][vc_acf field_group=”1228″ field_from_1228=”field_615af8a30832a”][vc_row_inner][vc_column_inner][vc_column_text]\n	Dieser Inhalt ist nur für angemeldete Benutzer sichtbar. Bitte melde dich an\, um diesen Inhalt anzuzeigen.\n\n[/vc_column_text][/vc_column_inner][/vc_row_inner][vc_raw_html]JTNDc3R5bGUlM0UlMEEudHJpYmUtZXZlbnRzLXNpbmdsZSUyMC50cmliZS1ldmVudHMtc2NoZWR1bGUlM0FiZWZvcmUlMjAlN0IlMEFjb250ZW50JTNBJTIyQW0lMjAlMjIlM0IlMEFtYXJnaW4tcmlnaHQlM0ExMHB4JTNCJTBBbGluZS1oZWlnaHQlM0ElMjAxLjMlM0IlMEFmb250LXdlaWdodCUzQSUyMDcwMCUzQiUwQSU3RCUwQSUwQS5lbnRyeS1jb250ZW50JTIwaDIlMkMlMjAuZW50cnktY29udGVudCUyMGgyJTIwc3BhbiUyMCU3QiUwQWZvbnQtc2l6ZSUzQTIycHglM0IlMEFmb250LWZhbWlseSUzQSUyMCUyN1JvYm90byUyMENvbmRlbnNlZCUyNyUyQyUyMHNhbnMtc2VyaWYlM0IlMEFmb250LXdlaWdodCUzQSUyMDcwMCUzQiUwQSU3RCUwQSUzQyUyRnN0eWxlJTNF[/vc_raw_html][/vc_column][/vc_row]
URL:https://ostfriesland-anno.de/veranstaltung/anno-jahreshauptversammlung-2/
LOCATION:Alte Brauerei\, An der alten Brauerei 2\, Krummhörn-Pilsum\, 26736\, Deutschland
CATEGORIES:Mitgliederversammlung
ATTACH;FMTTYPE=image/jpeg:https://ostfriesland-anno.de/wp-content/uploads/2021/09/ANNOOstfrieslandJahreshauptversammlung201912-1920w.jpg
END:VEVENT
END:VCALENDAR